BEGIN:VCALENDAR
VERSION:2.0
PRODID:-//Owatonna Pickleball - ECPv6.15.20//NONSGML v1.0//EN
CALSCALE:GREGORIAN
METHOD:PUBLISH
X-ORIGINAL-URL:https://owatonnapickleball.com
X-WR-CALDESC:Events for Owatonna Pickleball
REFRESH-INTERVAL;VALUE=DURATION:PT1H
X-Robots-Tag:noindex
X-PUBLISHED-TTL:PT1H
BEGIN:VTIMEZONE
TZID:UTC
BEGIN:STANDARD
TZOFFSETFROM:+0000
TZOFFSETTO:+0000
TZNAME:UTC
DTSTART:20180101T000000
END:STANDARD
END:VTIMEZONE
BEGIN:VEVENT
DTSTART;TZID=UTC:20191129T090000
DTEND;TZID=UTC:20191206T090000
DTSTAMP:20260423T142550
CREATED:20191130T014507Z
LAST-MODIFIED:20191202T023528Z
UID:920-1575018000-1575622800@owatonnapickleball.com
SUMMARY:Daily Rec Play
DESCRIPTION:Daily Rec play is Monday thru Friday 9-noon.  All are welcome.  Mostly 3.0 players with a sprinkling of 3.5 and an occasional 4.0
URL:https://owatonnapickleball.com/event/daily-rec-play/
LOCATION:Christian Family Church\, 2300 Heritage Pl NW\, Owatonna\, MN\, 55060\, United States
ORGANIZER;CN="Owatonna Pickleball Association":MAILTO:contact@owatonnapickleball.com
END:VEVENT
END:VCALENDAR